BEGIN:VCALENDAR
VERSION:2.0
PRODID:-//Gary C Laney - ECPv6.13.2.1//NONSGML v1.0//EN
CALSCALE:GREGORIAN
METHOD:PUBLISH
X-ORIGINAL-URL:https://garyclaney.com
X-WR-CALDESC:Events for Gary C Laney
REFRESH-INTERVAL;VALUE=DURATION:PT1H
X-Robots-Tag:noindex
X-PUBLISHED-TTL:PT1H
BEGIN:VTIMEZONE
TZID:America/Denver
BEGIN:DAYLIGHT
TZOFFSETFROM:-0700
TZOFFSETTO:-0600
TZNAME:MDT
DTSTART:20220313T090000
END:DAYLIGHT
BEGIN:STANDARD
TZOFFSETFROM:-0600
TZOFFSETTO:-0700
TZNAME:MST
DTSTART:20221106T080000
END:STANDARD
BEGIN:DAYLIGHT
TZOFFSETFROM:-0700
TZOFFSETTO:-0600
TZNAME:MDT
DTSTART:20230312T090000
END:DAYLIGHT
BEGIN:STANDARD
TZOFFSETFROM:-0600
TZOFFSETTO:-0700
TZNAME:MST
DTSTART:20231105T080000
END:STANDARD
END:VTIMEZONE
BEGIN:VTIMEZONE
TZID:America/Los_Angeles
BEGIN:DAYLIGHT
TZOFFSETFROM:-0800
TZOFFSETTO:-0700
TZNAME:PDT
DTSTART:20220313T100000
END:DAYLIGHT
BEGIN:STANDARD
TZOFFSETFROM:-0700
TZOFFSETTO:-0800
TZNAME:PST
DTSTART:20221106T090000
END:STANDARD
END:VTIMEZONE
BEGIN:VTIMEZONE
TZID:America/New_York
BEGIN:DAYLIGHT
TZOFFSETFROM:-0500
TZOFFSETTO:-0400
TZNAME:EDT
DTSTART:20220313T070000
END:DAYLIGHT
BEGIN:STANDARD
TZOFFSETFROM:-0400
TZOFFSETTO:-0500
TZNAME:EST
DTSTART:20221106T060000
END:STANDARD
END:VTIMEZONE
BEGIN:VEVENT
DTSTART;TZID=America/Denver:20230404T120000
DTEND;TZID=America/Denver:20230404T130000
DTSTAMP:20260423T094508
CREATED:20230330T113951Z
LAST-MODIFIED:20230330T113951Z
UID:2311-1680609600-1680613200@garyclaney.com
SUMMARY:Featured Interview - Speakers Who Think Differently\, with Michael Barris (Online LinkedIn Live Event)
DESCRIPTION:For Gary C. Laney\, leadership and influence go hand in hand. \n“You cannot be a leader without being influential\,” says the keynote speaker\, bestselling author\, leadership expert and serial entrepreneur who will be my guest Tuesday at 2 pm ET on “Speakers Who Think Differently.” \n“You can’t be influential without people wanting to follow you. It takes a crowd of people that think you do good things and want to see you do more of it\,” he says. “Once that occurs\, they will follow you and evangelize your message.” \nClick on the “attending” button to save your spot for what promises to be a thoughtful and useful conversation on LinkedIn Live. \nGary\, who lives in Utah\, has 35 years of executive management\, start-up and business growth experience with 20 companies. \nAlways\, he says\, his mission has been to provide value to whatever industry he’s been working in. \nHis background includes domain expertise in business networking\, e-commerce\, sales process\, customer relationship management\, business process management\, content/document management and search. \nIn his bestseller\, “The Power of Strategic Influence\,” Gary dives into the essentials of leadership and networking. \n“If others believe you are moving people and solving problems\, then they will follow you\,” he says. \n“People follow because they react to something positive that you did that impacted their life. \n“Just note\, though\, that once people start talking like that about you\, you must accept responsibility for the role of influence.” \nTo grab your seat and receive updates about this episode\, click on the event link below and then click the “ATTEND” link \nhttps://www.linkedin.com/events/7047064988301082625/comments/ \n \n#linkedinlive #presenter #entrepreneur #management #business #speakerswhothinkdifferently
URL:https://garyclaney.com/event/featured-interview-speakers-who-think-differently-with-michael-barris-online-linkedin-live-event/
LOCATION:Online
END:VEVENT
BEGIN:VEVENT
DTSTART;TZID=America/Denver:20221115T100000
DTEND;TZID=America/Denver:20221115T140000
DTSTAMP:20260423T094508
CREATED:20221005T140956Z
LAST-MODIFIED:20221005T140956Z
UID:2297-1668506400-1668520800@garyclaney.com
SUMMARY:Gary Speaking at the Strategic Influence Tour - Nov 15th - Salt Lake City\, UT
DESCRIPTION:We are EXCITED to announce The Strategic Influence Tour 2022-2023 with Gary C Laney! \nThe purpose of this 12 City US Tour is to inspire business leaders and entrepreneurs across the USA to incorporate the 10 Success Factors of Highly Influential Leaders. The book The Power of Strategic Influence reveals the secrets to building and using your PERSONAL INFLUENCE to create success\, build a great reputation\, and become a highly influential leader\, but also to give back by helping others succeed. Whether you’re a new arrival in a strange city or climbing the corporate ladder and haven’t gotten where you want to go\, The Power of Strategic Influence teaches the Game-Changing Success Factors that will transform your life. Join Gary and some of the 12 AMAZING business leaders that contributed to his book The Power of Strategic Influence. \nFirst Stop: SALT LAKE CITY\, UTAH: SAVE THE DATE!!!\nNovember 15th\, 2022!!!
URL:https://garyclaney.com/event/gary-speaking-at-the-strategic-influence-tour-nov-15th-salt-lake-city-ut/
ATTACH;FMTTYPE=image/jpeg:https://garyclaney.com/wp-content/uploads/2022/10/StrategicInfluenceTourSLC_1_5Categories.jpg
END:VEVENT
BEGIN:VEVENT
DTSTART;TZID=America/Denver:20221110T080000
DTEND;TZID=America/Denver:20221110T093000
DTSTAMP:20260423T094508
CREATED:20221005T140114Z
LAST-MODIFIED:20221005T140114Z
UID:2294-1668067200-1668072600@garyclaney.com
SUMMARY:Join Gary at the November 10th Round Table event at the Strategic Business Leaders of Las Vegas
DESCRIPTION:Join Gary at the upcoming Round Table event at the Strategic Business Leaders of Las Vegas. \nGary will be speaking on the topic of Leadership: Sphere of Leadership: Assuming the Role of Influencer\, based upon his best-seller book\, “The Power of Strategic Influence.” \n  \nStrategic Business Leaders Las Vegas Chapter Founders Launch Meeting Details \n\nWhen: Thursday\, November 10th\, 2022\nWhat time: 8:00 am to 9:30 am. Please arrive 15 minutes early to network\nHosted by The Office Squad and Dida Clifton\nVenue Address: 10501 W Gowan Rd Suite 260\, Las Vegas\, NV 89129\nRegistration Link: https://form.jotform.com/successmastersllc/LasVegas
URL:https://garyclaney.com/event/join-gary-at-the-november-10th-round-table-event-at-the-strategic-business-leaders-of-las-vegas/
LOCATION:Strategic Business Leaders of Las Vegas\, 10501 W Gowan Rd Suite 260\, Las Vegas\, NV\, 89129\, United States
ATTACH;FMTTYPE=image/jpeg:https://garyclaney.com/wp-content/uploads/2022/03/SLB-LAS-VEGAS-03.11.22-by-Alex-Martinez2.jpg
END:VEVENT
BEGIN:VEVENT
DTSTART;TZID=America/Denver:20221013T120000
DTEND;TZID=America/Denver:20221013T130000
DTSTAMP:20260423T094508
CREATED:20221004T201132Z
LAST-MODIFIED:20221004T201521Z
UID:2288-1665662400-1665666000@garyclaney.com
SUMMARY:Gary Speaking at AIM of Utah (Association of Information Management)
DESCRIPTION:The AIM Lunch meeting on Thursday\, October 13th features best-selling author Gary Laney talking about influential leadership. The doors open at 11:30 a.m. and the meeting will end prior to 1:00 p.m. \nIn our IT leadership roles we often (mostly?) do not have positional authority in our roles. In our interactions with other departments\, other members of the executive team\, our bosses\, board members\, et cetera we need to exert influential authority. I have found that working to master the practices and characteristics of influential leadership is a key to the success of my departments and our projects and priorities. \nIn this session\, Gary Laney will describe the competencies of leadership and focus on several of the elements of influential leadership related to Gary’s best-selling book “The Power of Strategic Influence.”
URL:https://garyclaney.com/event/gary-speaking-at-aim-of-utah-association-of-information-management/
ATTACH;FMTTYPE=image/jpeg:https://garyclaney.com/wp-content/uploads/2022/10/Gary-C-Laney-Headshot.jpg
END:VEVENT
BEGIN:VEVENT
DTSTART;TZID=America/Los_Angeles:20220414T080000
DTEND;TZID=America/Los_Angeles:20220414T093000
DTSTAMP:20260423T094508
CREATED:20220326T011822Z
LAST-MODIFIED:20220326T011931Z
UID:1987-1649923200-1649928600@garyclaney.com
SUMMARY:Gary Speaking at Strategic Business Leaders of Las Vegas
DESCRIPTION:Join Gary at the upcoming Round Table event at the Strategic Business Leaders of Las Vegas. \nGary will be speaking on the topic of the Accountability\, Be Self-Reliant\, based upon his best seller book\, The Power of Strategic Influence. \n  \nStrategic Business Leaders Las Vegas Chapter Founders Launch Meeting Details \n\nWhen: Thursday April 14th\, 2022\nWhat time: 8:00 am to 9:30 am. Please arrived 15 minutes early to network\nRegistration Link: https://form.jotform.com/successmastersllc/LasVegas\n\n  \n 
URL:https://garyclaney.com/event/gary-speaking-at-strategic-business-leaders-of-las-vegas/
ATTACH;FMTTYPE=image/jpeg:https://garyclaney.com/wp-content/uploads/2022/03/SBL-Feb-2022.jpg
END:VEVENT
BEGIN:VEVENT
DTSTART;TZID=America/New_York:20220322T130000
DTEND;TZID=America/New_York:20220322T140000
DTSTAMP:20260423T094508
CREATED:20220305T045850Z
LAST-MODIFIED:20220326T005719Z
UID:656-1647954000-1647957600@garyclaney.com
SUMMARY:YNG+/YPO Fireside Chat with Gary C. Laney\, #1 Bestselling Author\, and Entrepreneur
DESCRIPTION:Keynote address to the YNG+ Scotland group\, hosted by Hannah Wilson\, YNG+ Chair Scotland. \n“How to Become a Highly Effective and Influential Leader? By Mastering the 10 Competitive\nCompetencies of Leadership.” \nThank you to Hannah Wilson and YNG+ (YPONextGeneration) group of Scotland for the opportunity to share my thoughts today about Influential Leadership\, and highlights from my book\, The Power of Strategic Influence. Also thank you to Mike Still for making the introduction. A great experience. \nSHARING 5 TAKEAWAYS FROM OUR DISCUSSION! \n1. AUTHENTIC. Leadership begins and ends with authentic\, and trust-based influence.\n2. MOTIVATION. Teams are motivated by opportunity\, optimism\, and inclusion.\n3. ATTRACTION. People follow leaders because they are attracted to their genuine and highly developed leadership Traits and Competencies including Strategic Networking Capability\, Vision Sharing\, Relationship Building Skills\, Integrity Focus\, and Positive Outlook.\n4. SUCCESS. It’s the quality of the relationships in your personal network that ultimately determines your success in business.\n5. TRUST. All great relationships begin with trust. It takes time to build and is hard to regain once it’s lost. Without trust\, relationships of every kind—business\, personal\, romantic\, political—will fail. \nOn sale at Amazon: https://lnkd.in/edinpzJu
URL:https://garyclaney.com/event/how-to-start-your-speaking-journey/
LOCATION:Online
ATTACH;FMTTYPE=image/png:https://garyclaney.com/wp-content/uploads/2022/03/conference-speakers.png
END:VEVENT
BEGIN:VEVENT
DTSTART;TZID=America/Los_Angeles:20220225T203000
DTEND;TZID=America/Los_Angeles:20220225T213000
DTSTAMP:20260423T094508
CREATED:20220308T052249Z
LAST-MODIFIED:20220326T010501Z
UID:1075-1645821000-1645824600@garyclaney.com
SUMMARY:Keynote with Gary C Laney - Global Entrepreneurship Catalyst Symposium
DESCRIPTION:THRILLED TO BE THE INAUGURAL KEYNOTE SPEAKER next week at the “Global Entrepreneurship Catalyst Symposium” on Feb 25th\, at 8:30p PM Pacific. \nDETAILS: I speak at 8:30 PM (Pacific) on February 25th\, or 10 AM (IST) on February 26th\, depending on your time zone. \nTHANK YOU to Charmaine Gangen and her staff for organizing such a tremendous event\, a first of it’s kind\, and for inviting me to speak about Entrepreneurship in terms of Influential Leadership. \nSPEAKER LINEUP AND WHY TO ATTEND? This is a global event with 30 speakers from 10 countries coming together to share the many facets of entrepreneurship. The event is for entrepreneurs\, educators of entrepreneurship\, students of entrepreneurship\, or anyone interested in Entrepreneurship. \nREGISTER FOR FREE: https://lnkd.in/g-sQxaR7 \nWHAT I’LL BE SPEAKING ABOUT! “Learn how to become a highly effective and influential leader by mastering the 10 Competitive Competencies of Leadership.”​ \nWHY YOU SHOULD ATTEND? For entrepreneurs\, learning how to become an influential and impactful leader is crucial to a successful start-up. \nPLEASE JOIN US! I’m sharing and inviting connections from my Golden Nugget family\, SPN Network\, Strategic Business Leaders Mastermind\, other business leaders\, influencers\, and entrepreneurs from around the globe.
URL:https://garyclaney.com/event/how-to-be-confident/
LOCATION:Online
ATTACH;FMTTYPE=image/jpeg:https://garyclaney.com/wp-content/uploads/2022/03/23-2021-Best-Selling-Author-Serial-Entrepreneur-GaryLaneyHeadShot06.20-9.jpg
END:VEVENT
END:VCALENDAR